BEGIN:VCALENDAR
VERSION:2.0
PRODID:-//Mintigur - ECPv6.2.3//NONSGML v1.0//EN
CALSCALE:GREGORIAN
METHOD:PUBLISH
X-WR-CALNAME:Mintigur
X-ORIGINAL-URL:https://mintigur.com
X-WR-CALDESC:Mintigur için etkinlikler
REFRESH-INTERVAL;VALUE=DURATION:PT1H
X-Robots-Tag:noindex
X-PUBLISHED-TTL:PT1H
BEGIN:VTIMEZONE
TZID:Europe/Moscow
BEGIN:STANDARD
TZOFFSETFROM:+0300
TZOFFSETTO:+0300
TZNAME:MSK
DTSTART:20240101T000000
END:STANDARD
END:VTIMEZONE
BEGIN:VEVENT
DTSTART;TZID=Europe/Moscow:20240514T080000
DTEND;TZID=Europe/Moscow:20240514T170000
DTSTAMP:20260422T151728
CREATED:20240518T090053Z
LAST-MODIFIED:20240514T152414Z
UID:2639-1715673600-1715706000@mintigur.com
SUMMARY:MUM ATÖLYESİ
DESCRIPTION:Mum Atölyeleri Yer: MİNTİGUR Bağlıca Mağazası\nAmaç: Bu atölye\, katılımcılara kendi özel tasarım mumlarını yapma fırsatı sunmayı amaçlamaktadır. Katılımcılar\, kreatif ifadelerini serbest bırakırken mum yapımıyla ilgili temel becerileri öğrenirler. Atölyeler: \n1) Tasarım Mum Atölyesi (yetişkin) \n2) Kokteyl Mum Atölyesi (Yetişkin) \n3)Tasarım Mum Atölyesi(Anne veya Baba-Çocuk)(çocuk) \n4) Çift Mum Atölyesi (Sevgililer Günü Özel Eğitim)\nProgram:\n1) Hoşgeldiniz ve Tanışma: Katılımcıların karşılama ve tanışma\, atölyenin amacının ve programın kısa bir özetinin sunumu.\n2) Mum Yapımı İlkeleri: Katılımcılara temel mum yapımı prensipleri hakkında bilgi verilir. (Örneğin: Malzemeler\, güvenlik önlemleri)\n3) Mum Tasarımı: Katılımcılar\, kendi tasarımlarını yaratmak için farklı renkler\, esanslar ve dekoratif malzemeler kullanarak mumlarını tasarlarlar.\n4) Mum Yapımı Uygulaması: Katılımcılar\, tasarladıkları mumları yapmak için kılavuzlanırlar. Bu aşamada temel mum yapımı teknikleri öğretilir.\n5) Mumlarınızın Soğutulması: Katılımcıların tasarladıkları mumlar soğuması için beklenir.\n6) Mumlarınızı Kişiselleştirin: Soğuyan mumları kişiselleştirmek için katılımcılara dekorasyon seçenekleri sunulur.\n7) Atölye Geri Bildirimi: Katılımcıların deneyimlerini ve tasarladıkları mumları paylaşmaları için bir geri bildirim oturumu yapılır.\n8) Teşekkür ve Kapanış: Katılımcılara teşekkür edilir ve atölye sona erer.\nMum workshoplarımız 2-2.5 saat arası sürmektedir. Ekipmanlar ve hammaddelerin hepsini biz karşılıyoruz\, hammadde olarak soya kullanıyoruz siz sadece katılım sağlıyorsunuz. Mum hakkında bilinmesi gereken her bilgiyi bu derste öğrenebilirsiniz. Ders bitiminde mumunuz ile birlikte gidebiliyorsunuz. 🎇Tasarım mum atölyeleri Grup derslerimizde(1kişiden fazla olma durumunda) Ücretlerimiz kişi başı 300 Tl’dir. 🎆 Kokteyl mum atölyelerinde jel mum ile çalışılmaktadır fiyatı 350Tldir. Konsept mum atölyemizde daha geniş cam kaplar ile çalışıyoruz\, soya wax materyal kullanıyoruz kişi başı 350 TL’dir. Tek kişi olan derslerde fiyatlar değişiklik göstermektedir. Özel grup ders talepleri: sizlerin istediği gün ve saate ders oluşturmaktayız. Kayıt için ödemeyi ders öncesi nakit veya havale ile almaktayız. Rezarvasyon için mesaj atabilirsiniz.
URL:https://mintigur.com/workshop/mum-atolyesi/
END:VEVENT
END:VCALENDAR